BEGIN:VCALENDAR
VERSION:2.0
PRODID:-//Crystal Coast Oceanfront Hotel - ECPv6.15.12.2//NONSGML v1.0//EN
CALSCALE:GREGORIAN
METHOD:PUBLISH
X-WR-CALNAME:Crystal Coast Oceanfront Hotel
X-ORIGINAL-URL:https://crystalcoastoceanfronthotel.com
X-WR-CALDESC:Events for Crystal Coast Oceanfront Hotel
REFRESH-INTERVAL;VALUE=DURATION:PT1H
X-Robots-Tag:noindex
X-PUBLISHED-TTL:PT1H
BEGIN:VTIMEZONE
TZID:America/New_York
BEGIN:DAYLIGHT
TZOFFSETFROM:-0500
TZOFFSETTO:-0400
TZNAME:EDT
DTSTART:20250309T070000
END:DAYLIGHT
BEGIN:STANDARD
TZOFFSETFROM:-0400
TZOFFSETTO:-0500
TZNAME:EST
DTSTART:20251102T060000
END:STANDARD
BEGIN:DAYLIGHT
TZOFFSETFROM:-0500
TZOFFSETTO:-0400
TZNAME:EDT
DTSTART:20260308T070000
END:DAYLIGHT
BEGIN:STANDARD
TZOFFSETFROM:-0400
TZOFFSETTO:-0500
TZNAME:EST
DTSTART:20261101T060000
END:STANDARD
BEGIN:DAYLIGHT
TZOFFSETFROM:-0500
TZOFFSETTO:-0400
TZNAME:EDT
DTSTART:20270314T070000
END:DAYLIGHT
BEGIN:STANDARD
TZOFFSETFROM:-0400
TZOFFSETTO:-0500
TZNAME:EST
DTSTART:20271107T060000
END:STANDARD
END:VTIMEZONE
BEGIN:VEVENT
DTSTART;TZID=America/New_York:20260314T090000
DTEND;TZID=America/New_York:20260314T180000
DTSTAMP:20260421T043112
CREATED:20260305T230306Z
LAST-MODIFIED:20260305T230306Z
UID:1295-1773478800-1773511200@crystalcoastoceanfronthotel.com
SUMMARY:Emerald Isle St. Patrick’s Day Festival
DESCRIPTION:Sip\, ride\, and celebrate — a full day of drinks\, carnival fun\, and memories waiting to be made.
URL:https://crystalcoastoceanfronthotel.com/events/emerald-isle-st-patrick-day-festival/
LOCATION:Emerald Plantation Shopping\, 200 Mallard Dr\, Emerald Isle\, NC\, 28594
CATEGORIES:Area Events
ATTACH;FMTTYPE=image/png:https://crystalcoastoceanfronthotel.com/wp-content/uploads/2026/03/crystal-coast-st-patrick-day.png
END:VEVENT
END:VCALENDAR