BEGIN:VCALENDAR
VERSION:2.0
PRODID:-//Crystal Coast Oceanfront Hotel - ECPv6.15.12.2//NONSGML v1.0//EN
CALSCALE:GREGORIAN
METHOD:PUBLISH
X-WR-CALNAME:Crystal Coast Oceanfront Hotel
X-ORIGINAL-URL:https://crystalcoastoceanfronthotel.com
X-WR-CALDESC:Events for Crystal Coast Oceanfront Hotel
REFRESH-INTERVAL;VALUE=DURATION:PT1H
X-Robots-Tag:noindex
X-PUBLISHED-TTL:PT1H
BEGIN:VTIMEZONE
TZID:America/New_York
BEGIN:DAYLIGHT
TZOFFSETFROM:-0500
TZOFFSETTO:-0400
TZNAME:EDT
DTSTART:20250309T070000
END:DAYLIGHT
BEGIN:STANDARD
TZOFFSETFROM:-0400
TZOFFSETTO:-0500
TZNAME:EST
DTSTART:20251102T060000
END:STANDARD
BEGIN:DAYLIGHT
TZOFFSETFROM:-0500
TZOFFSETTO:-0400
TZNAME:EDT
DTSTART:20260308T070000
END:DAYLIGHT
BEGIN:STANDARD
TZOFFSETFROM:-0400
TZOFFSETTO:-0500
TZNAME:EST
DTSTART:20261101T060000
END:STANDARD
BEGIN:DAYLIGHT
TZOFFSETFROM:-0500
TZOFFSETTO:-0400
TZNAME:EDT
DTSTART:20270314T070000
END:DAYLIGHT
BEGIN:STANDARD
TZOFFSETFROM:-0400
TZOFFSETTO:-0500
TZNAME:EST
DTSTART:20271107T060000
END:STANDARD
END:VTIMEZONE
BEGIN:VEVENT
DTSTART;TZID=America/New_York:20260502T090000
DTEND;TZID=America/New_York:20260502T160000
DTSTAMP:20260421T054740
CREATED:20260414T181833Z
LAST-MODIFIED:20260414T181833Z
UID:1336-1777712400-1777737600@crystalcoastoceanfronthotel.com
SUMMARY:Rise of the Flower Moon Native American Festival & Car Show
DESCRIPTION:Enjoy a classic car show\, Native American Festival and Pow Wow!
URL:https://crystalcoastoceanfronthotel.com/events/flower-moon-festival/
LOCATION:Carteret County Speedway\, 501 Whitehouse Fork Rd\, Peletier\, NC\, 28584
CATEGORIES:Area Events
ATTACH;FMTTYPE=image/png:https://crystalcoastoceanfronthotel.com/wp-content/uploads/2026/04/crystal-coast-memorial-classic.png
END:VEVENT
BEGIN:VEVENT
DTSTART;TZID=America/New_York:20260502T100000
DTEND;TZID=America/New_York:20260503T160000
DTSTAMP:20260421T054740
CREATED:20260306T000310Z
LAST-MODIFIED:20260306T000310Z
UID:1297-1777716000-1777824000@crystalcoastoceanfronthotel.com
SUMMARY:50th Annual Wooden Boat Show
DESCRIPTION:Enjoy this local tradition – spot small wooden boats\, historic vessels\, educational activities\, and much more!
URL:https://crystalcoastoceanfronthotel.com/events/wooden-boat-show/
LOCATION:Harvey W. Smith Watercraft Center\, 315 Front Street\, Beaufort\, NC\, 28516\, United States
CATEGORIES:Area Events
ATTACH;FMTTYPE=image/jpeg:https://crystalcoastoceanfronthotel.com/wp-content/uploads/2025/04/AdobeStock_102106377-1-scaled.jpeg
END:VEVENT
BEGIN:VEVENT
DTSTART;TZID=America/New_York:20260508T173000
DTEND;TZID=America/New_York:20260508T203000
DTSTAMP:20260421T054740
CREATED:20260414T160704Z
LAST-MODIFIED:20260414T161716Z
UID:1323-1778261400-1778272200@crystalcoastoceanfronthotel.com
SUMMARY:Celebration on the Sound
DESCRIPTION:Tailgate on the patio with food trucks and beverages then enjoy live tunes from Great White!
URL:https://crystalcoastoceanfronthotel.com/events/celebration-sound/
LOCATION:Crystal Coast Civic Center\, 203 College Circle\, Morehead City\, NC\, 28557
CATEGORIES:Area Events
ATTACH;FMTTYPE=image/png:https://crystalcoastoceanfronthotel.com/wp-content/uploads/2026/04/crystal-coast-celebration-sound.png
END:VEVENT
BEGIN:VEVENT
DTSTART;TZID=America/New_York:20260509T190000
DTEND;TZID=America/New_York:20260509T230000
DTSTAMP:20260421T054740
CREATED:20260414T181436Z
LAST-MODIFIED:20260414T181436Z
UID:1335-1778353200-1778367600@crystalcoastoceanfronthotel.com
SUMMARY:Spring Showdown
DESCRIPTION:Head to the track for some exciting thrills!
URL:https://crystalcoastoceanfronthotel.com/events/spring-showdown-2/
LOCATION:Carteret County Speedway\, 501 Whitehouse Fork Rd\, Peletier\, NC\, 28584
CATEGORIES:Area Events
ATTACH;FMTTYPE=image/png:https://crystalcoastoceanfronthotel.com/wp-content/uploads/2026/04/crystal-coast-memorial-classic.png
END:VEVENT
BEGIN:VEVENT
DTSTART;TZID=America/New_York:20260516T110000
DTEND;TZID=America/New_York:20260516T180000
DTSTAMP:20260421T054740
CREATED:20260409T204253Z
LAST-MODIFIED:20260409T204253Z
UID:1321-1778929200-1778954400@crystalcoastoceanfronthotel.com
SUMMARY:Atlantic Beach Beach Music Festival
DESCRIPTION:Head over the the Circle for good food\, great music\, and even better times!
URL:https://crystalcoastoceanfronthotel.com/events/atlantic-beach-beach-music-festival/
LOCATION:The Circle\, 115 Atlantic Blvd\, Atlantic Beach\, NC\, United States
CATEGORIES:Area Events
ATTACH;FMTTYPE=image/png:https://crystalcoastoceanfronthotel.com/wp-content/uploads/2026/04/crystal-coast-Atlantic-Beach-Beach-Music-Festival.png
END:VEVENT
BEGIN:VEVENT
DTSTART;TZID=America/New_York:20260524T190000
DTEND;TZID=America/New_York:20260524T230000
DTSTAMP:20260421T054740
CREATED:20260414T180304Z
LAST-MODIFIED:20260414T180304Z
UID:1333-1779649200-1779663600@crystalcoastoceanfronthotel.com
SUMMARY:Memorial Day Classic
DESCRIPTION:Head over to the Carteret County Speedway for some high-speed action!
URL:https://crystalcoastoceanfronthotel.com/events/memorial-day-classic-2/
LOCATION:Carteret County Speedway\, 501 Whitehouse Fork Rd\, Peletier\, NC\, 28584
CATEGORIES:Area Events
ATTACH;FMTTYPE=image/png:https://crystalcoastoceanfronthotel.com/wp-content/uploads/2026/04/crystal-coast-memorial-classic.png
END:VEVENT
BEGIN:VEVENT
DTSTART;TZID=America/New_York:20260530T090000
DTEND;TZID=America/New_York:20260530T140000
DTSTAMP:20260421T054740
CREATED:20260414T183322Z
LAST-MODIFIED:20260414T183353Z
UID:1339-1780131600-1780149600@crystalcoastoceanfronthotel.com
SUMMARY:Kayak for the Warriors Kayak & SUP Race
DESCRIPTION:Race through scenic waters to raise funds for our veterans!
URL:https://crystalcoastoceanfronthotel.com/events/kayak-the-salt-marsh-3/
CATEGORIES:Area Events
ATTACH;FMTTYPE=image/jpeg:https://crystalcoastoceanfronthotel.com/wp-content/uploads/2025/04/AdobeStock_137590540-scaled.jpeg
END:VEVENT
END:VCALENDAR