BEGIN:VCALENDAR
VERSION:2.0
PRODID:-//Crystal Coast Oceanfront Hotel - ECPv6.15.12.2//NONSGML v1.0//EN
CALSCALE:GREGORIAN
METHOD:PUBLISH
X-WR-CALNAME:Crystal Coast Oceanfront Hotel
X-ORIGINAL-URL:https://crystalcoastoceanfronthotel.com
X-WR-CALDESC:Events for Crystal Coast Oceanfront Hotel
REFRESH-INTERVAL;VALUE=DURATION:PT1H
X-Robots-Tag:noindex
X-PUBLISHED-TTL:PT1H
BEGIN:VTIMEZONE
TZID:America/New_York
BEGIN:DAYLIGHT
TZOFFSETFROM:-0500
TZOFFSETTO:-0400
TZNAME:EDT
DTSTART:20240310T070000
END:DAYLIGHT
BEGIN:STANDARD
TZOFFSETFROM:-0400
TZOFFSETTO:-0500
TZNAME:EST
DTSTART:20241103T060000
END:STANDARD
BEGIN:DAYLIGHT
TZOFFSETFROM:-0500
TZOFFSETTO:-0400
TZNAME:EDT
DTSTART:20250309T070000
END:DAYLIGHT
BEGIN:STANDARD
TZOFFSETFROM:-0400
TZOFFSETTO:-0500
TZNAME:EST
DTSTART:20251102T060000
END:STANDARD
BEGIN:DAYLIGHT
TZOFFSETFROM:-0500
TZOFFSETTO:-0400
TZNAME:EDT
DTSTART:20260308T070000
END:DAYLIGHT
BEGIN:STANDARD
TZOFFSETFROM:-0400
TZOFFSETTO:-0500
TZNAME:EST
DTSTART:20261101T060000
END:STANDARD
END:VTIMEZONE
BEGIN:VEVENT
DTSTART;TZID=America/New_York:20250602T180000
DTEND;TZID=America/New_York:20250602T190000
DTSTAMP:20260420T140417
CREATED:20250408T191010Z
LAST-MODIFIED:20250408T191040Z
UID:1049-1748887200-1748890800@crystalcoastoceanfronthotel.com
SUMMARY:Emerald Isle Run Club
DESCRIPTION:Whether walking or running\, head over the The Growler Bar every Monday at 6pm for run club.
URL:https://crystalcoastoceanfronthotel.com/events/emerald-isle-run-club/
LOCATION:The Growler Bar Emerald Isle\, 200 Mallard Dr\, Emerald Isle\, NC\, 28594
CATEGORIES:Area Events
ATTACH;FMTTYPE=image/jpeg:https://crystalcoastoceanfronthotel.com/wp-content/uploads/2025/04/AdobeStock_78343092-scaled.jpeg
END:VEVENT
END:VCALENDAR